Workbook

Sheet Data Guide
A2: Structure of the database

Sheet Population
A1: Population, total (Nr. of inhabitants)
A2: Source: World Bank
A3: Retrieved: March 2025
A5: Country | B5: Code | C5: 2019 | D5: 2020 | E5: 2021 | F5: 2022 | G5: 2023
A6: Afghanistan | B6: AFG | C6: 37856121 | D6: 39068979 | E6: 40000412 | F6: 40578842 | G6: 41454761
A7: Albania | B7: ALB | C7: 2854191 | D7: 2837849 | E7: 2811666 | F7: 2777689 | G7: 2745972
A8: Algeria | B8: DZA | C8: 43294546 | D8: 44042091 | E8: 44761099 | F8: 45477389 | G8: 46164219
A9: American Samoa | B9: ASM | C9: 50209 | D9: 49761 | E9: 49225 | F9: 48342 | G9: 47521
A10: Angola | B10: AGO | C10: 32375632 | D10: 33451132 | E10: 34532429 | F10: 35635029 | G10: 36749906
A11: Antigua and Barbuda | B11: ATG | C11: 91364 | D11: 91846 | E11: 92349 | F11: 92840 | G11: 93316
A12: Argentina | B12: ARG | C12: 44973465 | D12: 45191965 | E12: 45312281 | F12: 45407904 | G12: 45538401
A13: Armenia | B13: ARM | C13: 2962500 | D13: 2961500 | E13: 2962300 | F13: 2969200 | G13: 2990900
A14: Aruba | B14: ABW | C14: 109203 | D14: 108587 | E14: 107700 | F14: 107310 | G14: 107359
A15: Azerbaijan | B15: AZE | C15: 10024283 | D15: 10093121 | E15: 10137750 | F15: 10141756 | G15: 10153958
A16: Bahamas, The | B16: BHS | C16: 394675 | D16: 395863 | E16: 396373 | F16: 397538 | G16: 399440
A17: Bahrain | B17: BHR | C17: 1483756 | D17: 1472204 | E17: 1504365 | F17: 1524693 | G17: 1577059
... A177: Zimbabwe | B177: ZWE | C177: 15271368 | D177: 15526888 | E177: 15797210 | F177: 16069056 | G177: 16340822
A178: Global South (Nr. Inhabitants) | G178: =SUM(G6:G177) -> 6974541090
A179: Global South (% world total) | G179: =G178/G180*100 -> 86.512632
A180: World | B180: WLD | C180: 7776892015 | D180: 7.8561388e+09 | E180: 7921184346 | F180: 7.9899815e+09 | G180: 8061876001

Sheet GDP
A1: GDP (in current US dollars)
A2: Source: World Bank
A3: Retrieved: March 2025
A5: Country | B5: 2000 | C5: 2019 | D5: 2020 | E5: 2021 | F5: 2022 | G5: 2023
A6: Afghanistan | B6: 3.5214181e+09 | C6: 1.8799444e+10 | D6: 1.9955929e+10 | E6: 1.4259995e+10 | F6: 1.4497244e+10 | G6: 1.7233052e+10
A7: Albania | B7: 3.4803553e+09 | C7: 1.5585105e+10 | D7: 1.5241459e+10 | E7: 1.8032011e+10 | F7: 1.9017243e+10 | G7: 2.354718e+10
A8: Algeria | B8: 5.4790399e+10 | C8: 1.9345966e+11 | D8: 1.6487342e+11 | E8: 1.8623121e+11 | F8: 2.2563846e+11 | G8: 2.4762616e+11
A9: American Samoa | B9: .. | C9: 647000000 | D9: 721000000 | E9: 750000000 | F9: 871000000 | G9: ..
A10: Angola | B10: 9.129595e+09 | C10: 7.0897963e+10 | D10: 4.8501561e+10 | E10: 6.650513e+10 | F10: 1.0439975e+11 | G10: 8.4824654e+10
A11: Antigua and Barbuda | B11: 9.0055185e+08 | C11: 1.7253519e+09 | D11: 1.4107963e+09 | E11: 1.6013667e+09 | F11: 1.8677333e+09 | G11: 2.0330852e+09
A12: Argentina | B12: 284203750000 | C12: 4.4775468e+11 | D12: 3.8574051e+11 | E12: 4.8656409e+11 | F12: 6.3279007e+11 | G12: 6.4607528e+11
A13: Armenia | B13: 1.9115637e+09 | C13: 1.3619291e+10 | D13: 1.2641699e+10 | E13: 1.3878909e+10 | F13: 1.9513507e+10 | G13: 2.408575e+10
A14: Aruba | B14: 1.8734525e+09 | C14: 3.3957989e+09 | D14: 2.4818571e+09 | E14: 2.9294466e+09 | F14: 3.2793435e+09 | G14: 3.6485731e+09
A15: Azerbaijan | B15: 5.2726157e+09 | C15: 4.8174235e+10 | D15: 42693000000 | E15: 5.4825412e+10 | F15: 7.8807471e+10 | G15: 7.2356176e+10
A16: Bahamas, The | B16: 8076470000 | C16: 13016200000 | D16: 9958200000 | E16: 11368900000 | F16: 13136400000 | G16: 14338500000
A17: Bahrain | B17: 9.0628989e+09 | C17: 4.0446809e+10 | D17: 3.5837633e+10 | E17: 4.0840213e+10 | F17: 4.6680399e+10 | G17: 4.6079867e+10
A18: Bangladesh | B18: 5.3369787e+10 | C18: 3.5123165e+11 | D18: 3.7397944e+11 | E18: 4.1627165e+11 | F18: 4.6013169e+11 | G18: 4.3741533e+11
A19: Barbados | B19: 3059500000 | C19: 5788288000 | D19: 5168344450 | E19: 5275242050 | F19: 6257303500 | G19: 6720733200
A20: Belarus | B20: 1.273678e+10 | C20: 6.4410123e+10 | D20: 6.1371755e+10 | E20: 6.9673747e+10 | F20: 7.377518e+10 | G20: 7.1857383e+10
A21: Belize | B21: 1138900000 | C21: 2388300000 | D21: 2042850000 | E21: 2420550000 | F21: 2846700000 | G21: 3066850000
... A23: Bermuda | B23: 3480219000 | C23: 7423465000 | D23: 6887147000 | E23: 7286607000 | F23: 7827980000 | G23: 8141700000
A24: Bhutan | B24: 4.6073342e+08 | C24: 2.7356836e+09 | D24: 2.4576043e+09 | E24: 2.768803e+09 | F24: 2.8982277e+09 | G24: ..
A25: Bolivia | B25: 8.3978555e+09 | C25: 4.0895323e+10 | D25: 3.6629844e+10 | E25: 4.0406112e+10 | F25: 4.4008283e+10 | G25: 4.5135398e+10
A26: Bosnia and Herzegovina | B26: 5.5677728e+09 | C26: 2.0482609e+10 | D26: 2.0226037e+10 | E26: 2.3672712e+10 | F26: 2.4534664e+10 | G26: 2.7514782e+10
A27: Botswana | B27: 5.7883296e+09 | C27: 1.6725908e+10 | D27: 1.4960291e+10 | E27: 1.8750947e+10 | F27: 2.0321959e+10 | G27: 1.9396084e+10
A28: Brazil | B28: 6.5544823e+11 | C28: 1.8732882e+12 | D28: 1.4761072e+12 | E28: 1.6706474e+12 | F28: 1.9519239e+12 | G28: 2.1736657e+12
A29: British Virgin Islands | B29: .. | C29: .. | D29: .. | E29: .. | F29: .. | G29: ..
A30: Brunei Darussalam | B30: 6.5709991e+09 | C30: 1.3469235e+10 | D30: 1.20058e+10 | E30: 1.4006497e+10 | F30: 1.6681536e+10 | G30: 1.5128293e+10
A31: Burkina Faso | B31: 2.9683701e+09 | C31: 1.6032814e+10 | D31: 1.7725011e+10 | E31: 1.9697516e+10 | F31: 1.8820219e+10 | G31: 2.0324618e+10
A32: Burundi | B32: 8.7048607e+08 | C32: 2.5765189e+09 | D32: 2.6496803e+09 | E32: 2.7757987e+09 | F32: 3.3387228e+09 | G32: 2.6421617e+09
A33: Cabo Verde | B33: 5.3922728e+08 | C33: 2.2521771e+09 | D33: 1.8215656e+09 | E33: 2.0518426e+09 | F33: 2.2470033e+09 | G33: 2.5338194e+09
A34: Cambodia | B34: 3.694169e+09 | C34: 3.6685356e+10 | D34: 3.4818074e+10 | E34: 3.6790164e+10 | F34: 3.9994533e+10 | G34: 4.2335647e+10
A35: Cameroon | B35: 1.0566579e+10 | C35: 3.9667758e+10 | D35: 4.0773241e+10 | E35: 4.5011937e+10 | F35: 4.4347206e+10 | G35: 4.9279411e+10
A36: Cayman Islands | B36: .. | C36: 5.9418966e+09 | D36: 5.655358e+09 | E36: 6.0600265e+09 | F36: 6.600844e+09 | G36: 7.1394286e+09
A37: Central African Republic | B37: 9.1677728e+08 | C37: 2.2213014e+09 | D37: 2.3267209e+09 | E37: 2.5164984e+09 | F37: 2.3826186e+09 | G37: 2.5554921e+09
A38: Chad | B38: 1.3885068e+09 | C38: 1.1314951e+10 | D38: 1.0715396e+10 | E38: 1.1779981e+10 | F38: 1.2396808e+10 | G38: 1.3149325e+10
A39: Chile | B39: 7.8339751e+10 | C39: 2.7828506e+11 | D39: 2.5404216e+11 | E39: 3.1551501e+11 | F39: 3.0211654e+11 | G39: 3.3553333e+11
A40: China | B40: 1.2113317e+12 | C40: 1.4279969e+13 | D40: 1.4687744e+13 | E40: 1.782046e+13 | F40: 1.7881783e+13 | G40: 1.7794783e+13
A41: Colombia | B41: 9.9875075e+10 | C41: 3.230317e+11 | D41: 2.7034834e+11 | E41: 3.1852463e+11 | F41: 3.4532988e+11 | G41: 3.6349384e+11
A42: Comoros | B42: 3.5113658e+08 | C42: 1.1950195e+09 | D42: 1.2250392e+09 | E42: 1.2960895e+09 | F42: 1.2425194e+09 | G42: 1.352381e+09
...

Sheet Trade_Imports
A1: Imports (current US$)
A2: Source: World Bank
A3: Retrieved: March 2025
A5: Country | B5: 1998 | C5: 1999 | D5: 2000 | E5: 2001 | F5: 2002 | G5: Columna1 | H5: 2020 | I5: 2021 | J5: 2022 | K5: 2023
A6: Afghanistan | B6: .. | C6: .. | D6: .. | E6: .. | F6: .. | H6: 7.2418225e+09 | I6: 5.2861181e+09 | J6: 7.9017847e+09 | K6: 8.7023821e+09
A7: Albania | B7: 9.3361458e+08 | C7: 1.0975584e+09 | D7: 1.5083438e+09 | E7: 1.7711271e+09 | F7: 2.068787e+09 | H7: 5.6362824e+09 | I7: 8.0165443e+09 | J7: 9.0333764e+09 | K7: 1.03204e+10
A8: Algeria | B8: 1.0850008e+10 | C8: 1.1079857e+10 | D8: 1.1390171e+10 | E8: 1.2125335e+10 | F8: 1.4427028e+10 | H8: 4.0978554e+10 | I8: 4.3564492e+10 | J8: 4.6015347e+10 | K8: 4.9682172e+10
A9: American Samoa | B9: .. | C9: .. | D9: .. | E9: .. | F9: 562000000 | H9: 686000000 | I9: 694000000 | J9: 677000000 | K9: ..
A10: Angola | B10: .. | C10: .. | D10: .. | E10: .. | F10: 7.3702154e+09 | H10: 1.3399763e+10 | I10: 1.7769654e+10 | J10: 2.6412539e+10 | K10: 2.2211259e+10
A11: Antigua and Barbuda | B11: .. | C11: .. | D11: .. | E11: .. | F11: .. | H11: 7.3974815e+08 | I11: 8.6697037e+08 | J11: 1.1755593e+09 | K11: ..
A12: Argentina | B12: 38667300000 | C12: 32762700000 | D12: 33070146000 | E12: 27603881800 | F12: 1.3065824e+10 | H12: 5.2454091e+10 | I12: 7.3042905e+10 | J12: 9.6814942e+10 | K12: 8.9748038e+10
A13: Armenia | B13: 1.0006343e+09 | C13: 9.1909132e+08 | D13: 9.5715647e+08 | E13: 9.6852989e+08 | F13: 1.0967355e+09 | H13: 5.0217657e+09 | I13: 6.0738891e+09 | J13: 9.988144e+09 | K13: 1.4514689e+10
A14: Aruba | B14: 1.3927374e+09 | C14: 1.4581006e+09 | D14: 1.3242849e+09 | E14: 1.3160335e+09 | F14: 1.3471285e+09 | H14: 1.7657089e+09 | I14: 2.234451e+09 | J14: 2.7977356e+09 | K14: 2.9719269e+09
A15: Azerbaijan | B15: 2.4245283e+09 | C15: 1.9175203e+09 | D15: 2.0235106e+09 | E15: 2.129887e+09 | F15: 3.1211812e+09 | H15: 1.5537824e+10 | I15: 1.6336941e+10 | J15: 2.1274412e+10 | K15: 2.5016412e+10
A16: Bahamas, The | B16: 2943000000 | C16: 3015600000 | D16: 3359600000 | E16: 3196400000 | F16: 3028700000 | H16: 3354910000 | I16: 4940290000 | J16: 5746790000 | K16: 6159640000
A17: Bahrain | B17: 3.9505322e+09 | C17: 4.168883e+09 | D17: 5.1321809e+09 | E17: 4.7946809e+09 | F17: 5.6242021e+09 | H17: 2.3296809e+10 | I17: 2.7577394e+10 | J17: 3.3068883e+10 | K17: 3.2379255e+10
A18: Bangladesh | B18: 8.0588767e+09 | C18: 8.5259359e+09 | D18: 9.0608627e+09 | E18: 1.0102557e+10 | F18: 9.0608915e+09 | H18: 5.9195932e+10 | I18: 7.1021046e+10 | J18: 9.6157128e+10 | K18: 7.7972815e+10
A19: Barbados | B19: .. | C19: .. | D19: .. | E19: .. | F19: .. | H19: .. | I19: .. | J19: .. | K19: ..
A20: Belarus | B20: 9.7274442e+09 | C20: 7.4810148e+09 | D20: 9.2212182e+09 | E20: 8.6851079e+09 | F20: 9.8332477e+09 | H20: 3.5547585e+10 | I20: 4.5415029e+10 | J20: 4.2031949e+10 | K20: 4.7555057e+10
A21: Belize | B21: 391500000 | C21: 492500000 | D21: 611500000 | E21: 601000000 | F21: 615000000 | H21: 901000000 | I21: 1248500000 | J21: 1573000000 | K21: 1571443850
A22: Benin | B22: 7.9792196e+08 | C22: 1.1540493e+09 | D22: 9.4134599e+08 | E22: 1.040789e+09 | F22: 1.008396e+09 | H22: 3.9067451e+09 | I22: 4.8003907e+09 | J22: 5.0952854e+09 | K22: 5.9337083e+09
A23: Bermuda | B23: .. | C23: .. | D23: .. | E23: .. | F23: .. | H23: 1519287000 | I23: 1713745000 | J23: 1960732000 | K23: 2004000000
A24: Bhutan | B24: 1.8628498e+08 | C24: 2.1247867e+08 | D24: 2.1205295e+08 | E24: 2.2748073e+08 | F24: 2.6492317e+08 | H24: 1.0755635e+09 | I24: 1.3396495e+09 | J24: 1.7410343e+09 | K24: ..
A25: Bolivia | B25: 2.7686943e+09 | C25: 2.2607751e+09 | D25: 2.2945486e+09 | E25: 2.0561949e+09 | F25: 2.1910689e+09 | H25: 9.241956e+09 | I25: 1.2605111e+10 | J25: 1.5466422e+10 | K25: 1.3958573e+10
A26: Bosnia and Herzegovina | B26: 4.0493997e+09 | C26: 4.4133567e+09 | D26: 3.5340839e+09 | E26: 3.7104804e+09 | F26: 4.0101184e+09 | H26: 9.6942934e+09 | I26: 1.2762572e+10 | J26: 1.5186678e+10 | K26: 1.5365012e+10
A27: Botswana | B27: 2.5174875e+09 | C27: 2.3983678e+09 | D27: 2.3207103e+09 | E27: 2.1336712e+09 | F27: 2.1580513e+09 | H27: 6.9375252e+09 | I27: 8.7837474e+09 | J27: 8.5487211e+09 | K27: 7.0954972e+09
A28: Brazil | B28: 8.1258639e+10 | C28: 6.8462738e+10 | D28: 8.1614535e+10 | E28: 8.1559233e+10 | F28: 6.8250204e+10 | H28: 2.3394125e+11 | I28: 3.0985331e+11 | J28: 3.7448248e+11 | K28: 3.4221469e+11
A29: British Virgin Islands | B29: .. | C29: .. | D29: .. | E29: .. | F29: .. | H29: .. | I29: .. | J29: .. | K29: ..
A30: Brunei Darussalam | B30: 2.325523e+09 | C30: 2.2266052e+09 | D30: 1.9768875e+09 | E30: 2.0221081e+09 | F30: 2.3153882e+09 | H30: 6.3552571e+09 | I30: 9.377938e+09 | J30: 1.0106444e+10 | K30: 9.0812379e+09
A31: Burkina Faso | B31: 7.8906617e+08 | C31: 9.1182091e+08 | D31: 7.8003496e+08 | E31: 7.2147333e+08 | F31: 8.1311461e+08 | H31: 5.1336794e+09 | I31: 5.8350514e+09 | J31: 6.22931e+09 | K31: 7.3087378e+09
A32: Burundi | B32: 1.7375153e+08 | C32: 1.2900135e+08 | D32: 1.4132127e+08 | E32: 1.3840067e+08 | F32: 1.4021823e+08 | H32: 5.8886521e+08 | I32: 6.6115e+08 | J32: 7.7939886e+08 | K32: 6.4283431e+08
A33: Cabo Verde | B33: 3.0837222e+08 | C33: 3.5540899e+08 | D33: 3.263047e+08 | E33: 3.5111119e+08 | F33: 4.2532521e+08 | H33: 9.6725287e+08 | I33: 1.0998956e+09 | J33: 1.310225e+09 | K33: 1.4284304e+09
A34: Cambodia | B34: 1.3848863e+09 | C34: 1.8863922e+09 | D34: 2.25685e+09 | E34: 2.5119405e+09 | F34: 2.8844142e+09 | H34: 2.1651131e+10 | I34: 2.7158062e+10 | J34: 2.9462601e+10 | K34: 2.8497892e+10
A35: Cameroon | B35: 2.2952711e+09 | C35: 2.0598482e+09 | D35: 2.4378294e+09 | E35: 2.8819772e+09 | F35: 3.1658483e+09 | H35: 7.5443113e+09 | I35: 9.1022918e+09 | J35: 9.7407703e+09 | K35: 1.0153325e+10
A36: Cayman Islands | B36: .. | C36: .. | D36: .. | E36: .. | F36: .. | H36: 2.5923704e+09 | I36: .. | J36: .. | K36: ..
A37: Central African Republic | B37: 2.7465296e+08 | C37: 2.397616e+08 | D37: 2.3183068e+08 | E37: 2.1052906e+08 | F37: 2.0066649e+08 | H37: 7.9919466e+08 | I37: 7.7839473e+08 | J37: 7.8466946e+08 | K37: 7.4210836e+08
A38: Chad | B38: 5.1588963e+08 | C38: 4.9400754e+08 | D38: 4.8154908e+08 | E38: 8.4953845e+08 | F38: 2.269814e+09 | H38: 4.5019891e+09 | I38: 5.2108335e+09 | J38: 5.0086593e+09 | K38: 6.3212317e+09
A39: Chile | B39: 2.3525063e+10 | C39: 1.9942567e+10 | D39: 2.23959e+10 | E39: 2.1685325e+10 | F39: 2.1238454e+10 | H39: 6.8216603e+10 | I39: 1.0369358e+11 | J39: 1.1925347e+11 | K39: 1.0009079e+11
A40: China | B40: 1.449137e+11 | C40: 1.6805844e+11 | D40: 2.2430624e+11 | E40: 2.4397379e+11 | F40: 2.9561964e+11 | H40: 2.3747375e+12 | I40: 3.0932784e+12 | J40: 3.1400409e+12 | K40: 3.1272016e+12
A41: Colombia | B41: 2.0585197e+10 | C41: 1.5359983e+10 | D41: 1.6731018e+10 | E41: 1.8180843e+10 | F41: 1.7793884e+10 | H41: 5.5511424e+10 | I41: 7.6006795e+10 | J41: 9.6145285e+10 | K41: 8.2354994e+10
...

Sheet Trade_Exports
A1: Exports (current US$)
A2: Source: World Bank
A3: Retrieved: March 2025
A5: Country | B5: 1998 | C5: 1999 | D5: 2000 | E5: 2001 | F5: 2002 | G5: Columna2 | H5: 2020 | I5: 2021 | J5: 2022 | K5: 2023
A6: Afghanistan | B6: .. | C6: .. | D6: .. | E6: .. | F6: .. | H6: 2.0795709e+09 | I6: 2.0451903e+09 | J6: 2.6645996e+09 | K6: 2.8908679e+09
A7: Albania | B7: 2.9194999e+08 | C7: 5.4097791e+08 | D7: 7.000834e+08 | E7: 8.3671788e+08 | F7: 9.1072968e+08 | H7: 3.4355404e+09 | I7: 5.6139095e+09 | J7: 7.0738599e+09 | K7: 9.1045363e+09
A8: Algeria | B8: 1.0880008e+10 | C8: 1.3692404e+10 | D8: 2.3050166e+10 | E8: 2.0272584e+10 | F8: 2.0384692e+10 | H8: 2.5613417e+10 | I8: 4.3660728e+10 | J8: 6.9516904e+10 | K8: 5.8488151e+10
A9: American Samoa | B9: .. | C9: .. | D9: .. | E9: .. | F9: 518000000 | H9: 427000000 | I9: 332000000 | J9: 409000000 | K9: ..
A10: Angola | B10: .. | C10: .. | D10: .. | E10: .. | F10: 8.7257798e+09 | H10: 1.858315e+10 | I10: 3.1753058e+10 | J10: 4.6344762e+10 | K10: 3.4656622e+10
A11: Antigua and Barbuda | B11: .. | C11: .. | D11: .. | E11: .. | F11: .. | H11: 5.9127778e+08 | I11: 7.5237778e+08 | J11: 1.0214556e+09 | K11: ..
A12: Argentina | B12: 31137200000 | C12: 27862300000 | D12: 31223690400 | E12: 31112418400 | F12: 2.773661e+10 | H12: 6.405381e+10 | I12: 8.7906118e+10 | J12: 1.0281582e+11 | K12: 8.2369725e+10
A13: Armenia | B13: 3.5986521e+08 | C13: 3.8308975e+08 | D13: 4.2362963e+08 | E13: 5.1152218e+08 | F13: 6.6138415e+08 | H13: 3.7627999e+09 | I13: 4.983422e+09 | J13: 9.8006549e+09 | K13: 1.431948e+10
A14: Aruba | B14: 1.326257e+09 | C14: 1.377095e+09 | D14: 1.3935866e+09 | E14: 1.3464235e+09 | F14: 1.2666508e+09 | H14: 1.3152007e+09 | I14: 2.0722918e+09 | J14: 2.8717303e+09 | K14: 3.2232877e+09
A15: Azerbaijan | B15: 1.0093047e+09 | C15: 1.2813807e+09 | D15: 2.1180536e+09 | E15: 2.3685813e+09 | F15: 2.6670397e+09 | H15: 1.5208765e+10 | I15: 2.5487647e+10 | J15: 4.7274118e+10 | K15: 3.5487353e+10
A16: Bahamas, The | B16: 2368200000 | C16: 2801300000 | D16: 3072900000 | E16: 2834100000 | F16: 3212800000 | H16: 2413900000 | I16: 3353500000 | J16: 5179300000 | K16: 5699000000
A17: Bahrain | B17: 3.9949468e+09 | C17: 5.2218085e+09 | D17: 7.1760638e+09 | E17: 6.6074468e+09 | F17: 6.956117e+09 | H17: 2.5249202e+10 | I17: 3.5234574e+10 | J17: 4.4581915e+10 | K17: 4.0349468e+10
A18: Bangladesh | B18: 5.8768502e+09 | C18: 6.028723e+09 | D18: 6.5880739e+09 | E18: 7.227576e+09 | F18: 6.7912415e+09 | H18: 3.9053881e+10 | I18: 4.4386125e+10 | J18: 5.9275206e+10 | K18: 5.7551452e+10
A19: Barbados | B19: .. | C19: .. | D19: .. | E19: .. | F19: .. | H19: .. | I19: .. | J19: .. | K19: ..
A20: Belarus | B20: 8.9883807e+09 | C20: 7.1862455e+09 | D20: 8.8152304e+09 | E20: 8.2465468e+09 | F20: 9.2863729e+09 | H20: 3.7444227e+10 | I20: 4.9351335e+10 | J20: 4.6516127e+10 | K20: 4.8014398e+10
A21: Belize | B21: 401000000 | C21: 440500000 | D21: 488000000 | E21: 491000000 | F21: 542500000 | H21: 770500000 | I21: 1155500000 | J21: 1516500000 | K21: 1695725300
A22: Benin | B22: 6.6515678e+08 | C22: 8.461511e+08 | D22: 7.2530489e+08 | E22: 7.2842633e+08 | F22: 8.2740166e+08 | H22: 3.1103487e+09 | I22: 3.7005543e+09 | J22: 3.7680366e+09 | K22: 4.1700344e+09
A23: Bermuda | B23: .. | C23: .. | D23: .. | E23: .. | F23: .. | H23: 3246335000 | I23: 3547380000 | J23: 3950269000 | K23: 4309400000
A24: Bhutan | B24: 1.247741e+08 | C24: 1.3039471e+08 | D24: 1.2901186e+08 | E24: 1.2522672e+08 | F24: 1.2820323e+08 | H24: 6.8974227e+08 | I24: 8.084556e+08 | J24: 7.3901445e+08 | K24: ..
A25: Bolivia | B25: 1.6738947e+09 | C25: 1.3985934e+09 | D25: 1.5346867e+09 | E25: 1.6260359e+09 | F25: 1.7103086e+09 | H25: 7.425818e+09 | I25: 1.124314e+10 | J25: 1.4351785e+10 | K25: 1.1524078e+10
A26: Bosnia and Herzegovina | B26: 1.124011e+09 | C26: 1.2954662e+09 | D26: 1.2184413e+09 | E26: 1.2801216e+09 | F26: 1.2868403e+09 | H26: 6.9135611e+09 | I26: 1.007826e+10 | J26: 1.1851985e+10 | K26: 1.2121807e+10
A27: Botswana | B27: 2.3611887e+09 | C27: 3.0271636e+09 | D27: 3.000196e+09 | E27: 2.6711121e+09 | F27: 2.8367715e+09 | H27: 4.6811175e+09 | I27: 7.8586799e+09 | J27: 8.8485629e+09 | K27: 6.2601059e+09
A28: Brazil | B28: 6.0723188e+10 | C28: 5.735515e+10 | D28: 6.6777381e+10 | E28: 6.9279555e+10 | F28: 7.2546877e+10 | H28: 2.4287207e+11 | I28: 3.192512e+11 | J28: 3.831776e+11 | K28: 3.9365692e+11
A29: British Virgin Islands | B29: .. | C29: .. | D29: .. | E29: .. | F29: .. | H29: .. | I29: .. | J29: .. | K29: ..
A30: Brunei Darussalam | B30: 2.0446916e+09 | C30: 2.5676168e+09 | D30: 3.7435177e+09 | E30: 3.5314769e+09 | F30: 3.5880698e+09 | H30: 6.8860598e+09 | I30: 1.1228856e+10 | J30: 1.4411072e+10 | K30: 1.1578413e+10
A31: Burkina Faso | B31: 3.5925478e+08 | C31: 2.8316459e+08 | D31: 2.6254395e+08 | E31: 2.885398e+08 | F31: 3.2113458e+08 | H31: 5.6324528e+09 | I31: 6.4602089e+09 | J31: 5.9744489e+09 | K31: 5.8661513e+09
A32: Burundi | B32: 71499426 | C32: 61217971 | D32: 55005759 | E32: 45410971 | F32: 38676371 | H32: 1.2054243e+08 | I32: 1.3879798e+08 | J32: 1.659712e+08 | K32: 1.3906715e+08
A33: Cabo Verde | B33: 1.1897553e+08 | C33: 1.2426501e+08 | D33: 1.4563029e+08 | E33: 1.6785397e+08 | F33: 2.0194386e+08 | H33: 4.6073535e+08 | I33: 4.8936033e+08 | J33: 8.6923649e+08 | K33: 9.720744e+08
A34: Cambodia | B34: 9.7476307e+08 | C34: 1.4260373e+09 | D34: 1.8214063e+09 | E34: 2.1217425e+09 | F34: 2.439168e+09 | H34: 2.0863616e+10 | I34: 2.6621743e+10 | J34: 2.8878877e+10 | K34: 2.8319443e+10
A35: Cameroon | B35: 2.4832402e+09 | C35: 2.2470782e+09 | D35: 2.6265148e+09 | E35: 2.7669837e+09 | F35: 2.8542491e+09 | H35: 6.2121038e+09 | I35: 7.4309685e+09 | J35: 8.5686844e+09 | K35: 8.1873519e+09
A36: Cayman Islands | B36: .. | C36: .. | D36: .. | E36: .. | F36: .. | H36: 3.3724935e+09 | I36: .. | J36: .. | K36: ..
A37: Central African Republic | B37: 2.1916876e+08 | C37: 1.9213606e+08 | D37: 1.8676783e+08 | E37: 1.6001689e+08 | F37: 1.5899942e+08 | H37: 3.5302126e+08 | I37: 3.3286882e+08 | J37: 2.93074e+08 | K37: 3.6903417e+08
A38: Chad | B38: 3.2264088e+08 | C38: 2.8112336e+08 | D38: 2.3452013e+08 | E38: 2.5090865e+08 | F38: 2.5341884e+08 | H38: 2.8627412e+09 | I38: 4.5647578e+09 | J38: 6.1141221e+09 | K38: 5.7205366e+09
A39: Chile | B39: 2.0615225e+10 | C39: 2.1395656e+10 | D39: 2.3598874e+10 | E39: 2.279463e+10 | F39: 2.2665228e+10 | H39: 7.95924e+10 | I39: 1.0088146e+11 | J39: 1.0729701e+11 | K39: 1.0447413e+11
A40: China | B40: 1.8875039e+11 | C40: 1.986994e+11 | D40: 2.5309209e+11 | E40: 2.7206001e+11 | F40: 3.3300231e+11 | H40: 2.7298846e+12 | I40: 3.5541078e+12 | J40: 3.7178878e+12 | K40: 3.5132369e+12
A41: Colombia | B41: 1.4780193e+10 | C41: 1.5829235e+10 | D41: 1.5895258e+10 | E41: 1.5110266e+10 | F41: 1.451123e+10 | H41: 3.6557248e+10 | I41: 5.1591454e+10 | J41: 6.9868523e+10 | K41: 6.4837475e+10
...

Sheet Investment
A1: Gross fixed capital formation (current US$)
A2: Source: World Bank
A3: Retrieved: March 2025
A5: Country | B5: 1998 | C5: 1999 | D5: 2000 | E5: 2001 | F5: 2002 | G5: Columna2 | H5: 2020 | I5: 2021 | J5: 2022 | K5: 2023
A6: Afghanistan | B6: .. | C6: .. | D6: .. | E6: .. | F6: .. | H6: 2.2860771e+09 | I6: 1.8519034e+09 | J6: 2.416469e+09 | K6: 2.6110354e+09
A7: Albania | B7: 5.4709447e+08 | C7: 7.5623324e+08 | D7: 1.1104628e+09 | E7: 1.4405608e+09 | F7: 1.5677187e+09 | H7: 3.8404791e+09 | I7: 4.9066237e+09 | J7: 4.8882744e+09 | K7: 5.6630709e+09
A8: Algeria | B8: 1.2407438e+10 | C8: 1.1863498e+10 | D8: 1.1329144e+10 | E8: 1.4927251e+10 | F8: 1.6685132e+10 | H8: 6.4448724e+10 | I8: 6.539975e+10 | J8: 6.854251e+10 | K8: 8.1259288e+10
A9: American Samoa | B9: .. | C9: .. | D9: .. | E9: .. | F9: .. | H9: .. | I9: .. | J9: .. | K9: ..
A10: Angola | B10: .. | C10: .. | D10: .. | E10: .. | F10: 4.6356086e+09 | H10: 1.2848258e+10 | I10: 1.7582202e+10 | J10: 2.7411217e+10 | K10: 2.0182542e+10
A11: Antigua and Barbuda | B11: .. | C11: .. | D11: .. | E11: .. | F11: .. | H11: .. | I11: .. | J11: .. | K11: ..
A12: Argentina | B12: 59595219100 | C12: 51073902400 | D12: 46020116800 | E12: 38098830100 | F12: 1.1688424e+10 | H12: 5.5093409e+10 | I12: 8.4130008e+10 | J12: 1.1118702e+11 | K12: 1.1997677e+11
A13: Armenia | B13: 3.0708622e+08 | C13: 3.0302022e+08 | D13: 4.1507694e+08 | E13: 4.4143462e+08 | F13: 5.9035179e+08 | H13: 2.2469256e+09 | I13: 2.9428757e+09 | J13: 4.1113228e+09 | K13: 5.0271932e+09
A14: Aruba | B14: .. | C14: .. | D14: .. | E14: .. | F14: .. | H14: .. | I14: .. | J14: .. | K14: ..
A15: Azerbaijan | B15: 1.5790902e+09 | C15: 1.306137e+09 | D15: 1.2198952e+09 | E15: 1.306e+09 | F15: 2.1252587e+09 | H15: 9.677e+09 | I15: 8.8965882e+09 | J15: 9.4660588e+09 | K15: 1.0745235e+10
A16: Bahamas, The | B16: 2.1293e+09 | C16: 2126600000 | D16: 2261100000 | E16: 2112900000 | F16: 2033600000 | H16: 2292100000 | I16: 2632200000 | J16: 2707200000 | K16: 2789800000
A17: Bahrain | B17: 8.6755319e+08 | C17: 8.9893617e+08 | D17: 1.485266e+09 | E17: 1.5235904e+09 | F17: 2.217234e+09 | H17: 1.0423564e+10 | I17: 1.0145452e+10 | J17: 1.2473644e+10 | K17: 1.2709043e+10
A18: Bangladesh | B18: 1.1057291e+10 | C18: 1.1649376e+10 | D18: 1.2706579e+10 | E18: 1.305202e+10 | F18: 1.3320616e+10 | H18: 1.1708526e+11 | I18: 1.2912221e+11 | J18: 1.4745967e+11 | K18: 1.3538529e+11
A19: Barbados | B19: .. | C19: .. | D19: .. | E19: .. | F19: .. | H19: .. | I19: .. | J19: .. | K19: ..
A20: Belarus | B20: 3.9476046e+09 | C20: 3.1956318e+09 | D20: 3.2098659e+09 | E20: 2.8007194e+09 | F20: 3.2086514e+09 | H20: 1.5567056e+10 | I20: 1.5726314e+10 | J20: 1.4347588e+10 | K20: 1.5702163e+10
A21: Belize | B21: 154500000 | C21: 214500000 | D21: 284000000 | E21: 261000000 | F21: 251000000 | H21: 353000000 | I21: 486500000 | J21: 589500000 | K21: 631660500
A22: Benin | B22: 4.2420944e+08 | C22: 7.3767367e+08 | D22: 6.5915372e+08 | E22: 6.9889445e+08 | F22: 7.0937593e+08 | H22: 3.9452095e+09 | I22: 5.0323767e+09 | J22: 6.2877675e+09 | K22: 7.8847959e+09
A23: Bermuda | B23: .. | C23: .. | D23: .. | E23: .. | F23: .. | H23: 842869000 | I23: 940628000 | J23: 945178000 | K23: 960800000
A24: Bhutan | B24: 1.2419847e+08 | C24: 1.5986175e+08 | D24: 2.4121181e+08 | E24: 3.0877034e+08 | F24: 3.7999047e+08 | H24: 9.4791114e+08 | I24: 1.2179881e+09 | J24: 1.5971463e+09 | K24: ..
A25: Bolivia | B25: 1.9674433e+09 | C25: 1.5822255e+09 | D25: 1.5021646e+09 | E25: 1.1338506e+09 | F25: 1.2371805e+09 | H25: 5.7040501e+09 | I25: 6.7196621e+09 | J25: 7.4118988e+09 | K25: 7.8829376e+09
A26: Bosnia and Herzegovina | B26: 1.3406964e+09 | C26: 1.1198635e+09 | D26: 1.6997238e+09 | E26: 1.6481328e+09 | F26: 1.905154e+09 | H26: 4.472314e+09 | I26: 5.0791894e+09 | J26: 5.4217512e+09 | K26: 6.3666603e+09
A27: Botswana | B27: 1.3467254e+09 | C27: 1.4631968e+09 | D27: 1.4553295e+09 | E27: 1.4228241e+09 | F27: 1.4941863e+09 | H27: 4.1336402e+09 | I27: 4.9489333e+09 | J27: 4.96103e+09 | K27: 4.9765368e+09
A28: Brazil | B28: 1.6015226e+11 | C28: 1.0203685e+11 | D28: 1.1997644e+11 | E28: 1.0313827e+11 | F28: 9.1387179e+10 | H28: 2.4445844e+11 | I28: 2.9934408e+11 | J28: 3.4745032e+11 | K28: 3.5949714e+11
A29: British Virgin Islands | B29: .. | C29: .. | D29: .. | E29: .. | F29: .. | H29: .. | I29: .. | J29: .. | K29: ..
A30: Brunei Darussalam | B30: 1.3695012e+09 | C30: 9.8350578e+08 | D30: 1.2254384e+09 | E30: 1.2840078e+09 | F30: 2.1404476e+09 | H30: 4.8476572e+09 | I30: 4.3538342e+09 | J30: 4.2834905e+09 | K30: 4.4417892e+09
A31: Burkina Faso | B31: 6.2750889e+08 | C31: 5.7932077e+08 | D31: 4.895118e+08 | E31: 4.3593828e+08 | F31: 4.8393198e+08 | H31: 3.1474115e+09 | I31: 3.5668144e+09 | J31: 3.0658569e+09 | K31: 3.4914915e+09
A32: Burundi | B32: 60522706 | C32: 47554830 | D32: 24209416 | E32: 39177455 | F32: 32592025 | H32: 3.0328161e+08 | I32: 3.6397966e+08 | J32: 4.4695051e+08 | K32: 3.4314737e+08
A33: Cabo Verde | B33: .. | C33: .. | D33: .. | E33: .. | F33: .. | H33: .. | I33: .. | J33: .. | K33: ..
A34: Cambodia | B34: 3.8650567e+08 | C34: 5.6201767e+08 | D34: 6.7934032e+08 | E34: 7.2091808e+08 | F34: 9.4083572e+08 | H34: 1.0665433e+10 | I34: 1.0941648e+10 | J34: 1.3591429e+10 | K34: 1.3835027e+10
A35: Cameroon | B35: 2.097515e+09 | C35: 2.0251122e+09 | D35: 1.8481183e+09 | E35: 2.1065289e+09 | F35: 2.4232142e+09 | H35: 7.41759e+09 | I35: 8.1874641e+09 | J35: 8.3443993e+09 | K35: 9.4262861e+09
A36: Cayman Islands | B36: .. | C36: .. | D36: .. | E36: .. | F36: .. | H36: .. | I36: .. | J36: .. | K36: ..
A37: Central African Republic | B37: 79804828 | C37: 1.2955192e+08 | D37: 1.0150829e+08 | E37: 95510951 | F37: 95871028 | H37: 4.2576131e+08 | I37: 3.9567056e+08 | J37: 3.5577904e+08 | K37: 3.7297015e+08
A38: Chad | B38: 2.4680975e+08 | C38: 2.6046911e+08 | D38: 2.9077483e+08 | E38: 6.258135e+08 | F38: 1.1926731e+09 | H38: 2.2025581e+09 | I38: 2.2350533e+09 | J38: 1.8563007e+09 | K38: 3.3866707e+09
A39: Chile | B39: 2.2611691e+10 | C39: 1.6939046e+10 | D39: 1.7268497e+10 | E39: 1.6095785e+10 | F39: 1.5650968e+10 | H39: 5.7327174e+10 | I39: 7.355165e+10 | J39: 7.6417616e+10 | K39: 7.9970558e+10
A40: China | B40: 3.3838187e+11 | C40: 3.5595742e+11 | D40: 3.9462057e+11 | E40: 4.4807683e+11 | F40: 5.1555349e+11 | H40: 6.2402465e+12 | I40: 7.4759062e+12 | J40: 7.4932879e+12 | K40: 7.3561895e+12
A41: Colombia | B41: 1.8649831e+10 | C41: 1.1430109e+10 | D41: 1.4111663e+10 | E41: 1.512244e+10 | F41: 1.6381728e+10 | H41: 4.9641567e+10 | I41: 6.0486974e+10 | J41: 6.5729614e+10 | K41: 6.3172178e+10
...

Sheet FDI_Inward
A1: FDI inflows (current US$)
A2: Source: World Bank
A3: Retrieved: March 2025
A5: Country | B5: 1998 | C5: 1999 | D5: 2000 | E5: 2001 | F5: 2002 | G5: Columna2 | H5: 2020 | I5: 2021 | J5: 2022 | K5: 2023
A6: Afghanistan | B6: .. | C6: .. | D6: .. | E6: .. | F6: .. | H6: 12970148 | I6: 30790960 | J6: .. | K6: ..
A7: Albania | B7: 45010000 | C7: 41200000 | D7: 143000000 | E7: 207300000 | F7: 135000000 | H7: 1.0697449e+09 | I7: 1.2185865e+09 | J7: 1.4413819e+09 | K7: 1.6209826e+09
A8: Algeria | B8: 1000000 | C8: 7600000 | D8: 13700000 | E8: 9300000 | F8: 98570000 | H8: 1.1439182e+09 | I8: 8.6919407e+08 | J8: 2.4001332e+08 | K8: 1.2157766e+09
A9: American Samoa | B9: .. | C9: .. | D9: .. | E9: .. | F9: .. | H9: .. | I9: .. | J9: .. | K9: ..
A10: Angola | B10: 1113970000 | C10: 2471460000 | D10: 878620000 | E10: 2145470000 | F10: 1743504000 | H10: -1.8664681e+09 | I10: -4.3551166e+09 | J10: -6.5986527e+09 | K10: -2.1196322e+09
A11: Antigua and Barbuda | B11: 22774074 | C11: 51792533 | D11: 96504370 | E11: 1.4581388e+08 | F11: 92910943 | H11: 1.0620418e+08 | I11: 2.8985703e+08 | J11: 3.0172689e+08 | K11: 3.0059773e+08
A12: Argentina | B12: 7.2906571e+09 | C12: 2.3987696e+10 | D12: 1.0418314e+10 | E12: 2.1661368e+09 | F12: 2148910000 | H12: 4.8841277e+09 | I12: 6.6580497e+09 | J12: 1.5200601e+10 | K12: 2.3866141e+10
A13: Armenia | B13: 232375000 | C13: 122034000 | D13: 104188500 | E13: 69868500 | F13: 1.1072533e+08 | H13: 58582750 | I13: 3.6644521e+08 | J13: 9.7565891e+08 | K13: 5.8036508e+08
A14: Aruba | B14: 1.1346369e+08 | C14: 4.675419e+08 | D14: -1.2793296e+08 | E14: -2.6692737e+08 | F14: 3.3251397e+08 | H14: 1.6106698e+08 | I14: 1.3354512e+08 | J14: 2.4815028e+08 | K14: 91445330
A15: Azerbaijan | B15: 1022967000 | C15: 510317000 | D15: 129937000 | E15: 819579000 | F15: 2024577000 | H15: 507151800 | I15: -1707666000 | J15: -4474481000 | K15: 252836000
A16: Bahamas, The | B16: 146900000 | C16: 149300000 | D16: 250250000 | E16: 102370000 | F16: 152790000 | H16: 4.345998e+08 | I16: 3.8306478e+08 | J16: 5.3091395e+08 | K16: 3.2245646e+08
A17: Bahrain | B17: 1.7945441e+08 | C17: 4.5373784e+08 | D17: 3.6356232e+08 | E17: 80358858 | F17: 2.1698688e+08 | H17: 1.0212766e+09 | I17: 1.7792553e+09 | J17: 1.9513298e+09 | K17: 6.8396277e+09
A18: Bangladesh | B18: 1.9005937e+08 | C18: 1.7960301e+08 | D18: 2.8038463e+08 | E18: 78527040 | F18: 52304931 | H18: 1.5253122e+09 | I18: 1.7238565e+09 | J18: 1.634888e+09 | K18: 1.3851554e+09
A19: Barbados | B19: 29160482 | C19: 47539505 | D19: 73696944 | E19: 91504911 | F19: 2.2834325e+08 | H19: 7500000 | I19: 17664400 | J19: 15000000 | K19: 8000000
A20: Belarus | B20: 203200000 | C20: 444000000 | D20: 118800000 | E20: 95800000 | F20: 247100000 | H20: 1393200000 | I20: 1.2307219e+09 | J20: 1.6064177e+09 | K20: 1.9921077e+09
A21: Belize | B21: 17650000 | C21: 58671500 | D21: 29564652 | E21: 61174889 | F21: 25461177 | H21: 76202814 | I21: 1.2549549e+08 | J21: 1.4090797e+08 | K21: 16037531
... A23: Bermuda | B23: 47400000 | C23: 28700000 | D23: 13900000 | E23: 22800000 | F23: 22400000 | H23: 4.7651808e+08 | I23: 49675692 | J23: 20601100 | K23: 21480000
A24: Bhutan | B24: .. | C24: .. | D24: .. | E24: .. | F24: .. | H24: -2786960.9 | I24: 6783112.5 | J24: 8402097.1 | K24: 11916048
A25: Bolivia | B25: 949300000 | C25: 1010500000 | D25: 736350000 | E25: 705756000 | F25: 676543000 | H25: -1.1294873e+09 | I25: 5.8357642e+08 | J25: 6236980.1 | K25: 2.9369209e+08
A26: Bosnia and Herzegovina | B26: 66736468 | C26: 1.7678059e+08 | D26: 1.4607561e+08 | E26: 1.1849522e+08 | F26: 2.6776957e+08 | H26: 4.8327899e+08 | I26: 7.6754228e+08 | J26: 8.5145428e+08 | K26: 1.0351782e+09
A27: Botswana | B27: 95318135 | C27: 36675066 | D27: 57171341 | E27: 30680571 | F27: 4.0799739e+08 | H27: 31792610 | I27: -3.1905586e+08 | J27: 7.0962414e+08 | K27: 6.6541758e+08
A28: Brazil | B28: 2.885561e+10 | C28: 2.8385676e+10 | D28: 3.2994719e+10 | E28: 2.3225846e+10 | F28: 1.65866e+10 | H28: 3.8270116e+10 | I28: 4.6440504e+10 | J28: 7.4606362e+10 | K28: 6.422733e+10
A29: British Virgin Islands | B29: 2884158930 | C29: 10581983240 | D29: 36367397000 | E29: 30073089000 | F29: 14166008000 | H29: 42280161620 | I29: 43216848540 | J29: 42809379600 | K29: 44158493710
A30: Brunei Darussalam | B30: .. | C30: .. | D30: .. | E30: 60694644 | F30: 2.2967196e+08 | H30: 5.6554228e+08 | I30: 2.0474938e+08 | J30: -2.9241628e+08 | K30: -50992640
A31: Burkina Faso | B31: 5264840 | C31: 193280 | D31: 167140 | E31: 597510 | F31: 1715950 | H31: -98777856 | I31: -79957355 | J31: 6.6973824e+08 | K31: 5174270
A32: Burundi | B32: .. | C32: -475191.31 | D32: .. | E32: -11440.913 | F32: .. | H32: 21226213 | I32: 22377442 | J32: 25285988 | K32: 34127984
A33: Cabo Verde | B33: 6793745.4 | C33: 53935025 | D33: 34202238 | E33: 9010186.2 | F33: 14759047 | H33: 67619884 | I33: 91456883 | J33: 1.2201553e+08 | K33: 1.5873589e+08
A34: Cambodia | B34: 1.1587173e+08 | C34: 1.0222582e+08 | D34: 1.1830857e+08 | E34: 1.46482e+08 | F34: 1.3095636e+08 | H34: 3.624645e+09 | I34: 3.4834616e+09 | J34: 3.5788313e+09 | K34: 3.9587924e+09
A35: Cameroon | B35: 55231294 | C35: 35009802 | D35: 1.5970801e+08 | E35: -11668387 | F35: 5.0525604e+08 | H35: 6.7518699e+08 | I35: 9.635315e+08 | J35: 9.2568155e+08 | K35: -109133290
A36: Cayman Islands | B36: 3241551670 | C36: 3854761830 | D36: 8504608000 | E36: 5983789000 | F36: -6024905000 | H36: 6.8757801e+09 | I36: -8.0780783e+08 | J36: -2.9196042e+09 | K36: 20421626280
A37: Central African Republic | B37: 301720 | C37: 6500 | D37: .. | E37: .. | F37: 1290 | H37: .. | I37: .. | J37: .. | K37: ..
A38: Chad | B38: -303410 | C38: -2147150 | D38: .. | E38: .. | F38: .. | H38: .. | I38: .. | J38: .. | K38: ..
A39: Chile | B39: 4627817978 | C39: 8.7610162e+09 | D39: 4.8600157e+09 | E39: 4.199763e+09 | F39: 2.5499231e+09 | H39: 1.1447397e+10 | I39: 1.5176902e+10 | J39: 1.8236599e+10 | K39: 2.1737836e+10
A40: China | B40: 45644000000 | C40: 41014000000 | D40: 42095300000 | E40: 47053000000 | F40: 5.3073619e+10 | H40: 2.5309562e+11 | I40: 3.4407498e+11 | J40: 1.9020379e+11 | K40: 4.2727679e+10
A41: Colombia | B41: 2.8288263e+09 | C41: 1.5079071e+09 | D41: 2.4364599e+09 | E41: 2.5419426e+09 | F41: 2.1336981e+09 | H41: 7.458625e+09 | I41: 9.5613353e+09 | J41: 1.7182521e+10 | K41: 1.7144522e+10
A42: Comoros | B42: .. | C42: .. | D42: .. | E42: .. | F42: .. | H42: 3875846.1 | I42: 4024772.2 | J42: 4128667.5 | K42: 5352754.9
...

Sheet FDI_Outward
A1: FDI outflows (current US$)
A2: Source: World Bank
A3: Retrieved: March 2025
A5: Country | B5: 1998 | C5: 1999 | D5: 2000 | E5: 2001 | F5: 2002 | G5: Columna2 | H5: 2020 | I5: 2021 | J5: 2022 | K5: 2023
A6: Afghanistan | B6: .. | C6: .. | D6: .. | E6: .. | F6: .. | H6: 37228478 | I6: 30790960 | J6: .. | K6: ..
A7: Albania | B7: .. | C7: .. | D7: .. | E7: .. | F7: .. | H7: 50098202 | I7: 49941570 | J7: 1.9151166e+08 | K7: 2.6277673e+08
A8: Algeria | B8: 1000000 | C8: 7600000 | D8: 13700000 | E8: 9300000 | F8: 98570000 | H8: 14605376 | I8: -51780110 | J8: 84586241 | K8: 83554526
A9: American Samoa | B9: .. | C9: .. | D9: .. | E9: .. | F9: .. | H9: .. | I9: .. | J9: .. | K9: ..
A10: Angola | B10: .. | C10: -88290 | D10: .. | E10: .. | F10: 100111000 | H10: 90514469 | I10: -1.0573706e+09 | J10: 41066362 | K10: 33356159
A11: Antigua and Barbuda | B11: .. | C11: .. | D11: 7782812.8 | E11: -5880486.8 | F11: 9673804.7 | H11: 821398.76 | I11: -15452803 | J11: 6870628.9 | K11: 7478887.4
A12: Argentina | B12: 2325477000 | C12: 1730283000 | D12: 9.010282e+08 | E12: 1.6087669e+08 | F12: -627140000 | H12: 1.1771769e+09 | I12: 1.5438617e+09 | J12: 2.0898366e+09 | K12: 2.9613419e+09
A13: Armenia | B13: 11546000 | C13: .. | D13: .. | E13: .. | F13: 1531.794 | H13: -27278869 | I13: 24593741 | J13: 49744938 | K13: 53854611
A14: Aruba | B14: 31284916 | C14: -1787709.5 | D14: 2625698.3 | E14: -3687150.8 | F14: -6145251.4 | H14: 20043217 | I14: -4855705.2 | J14: 1.23456e+08 | K14: 91445330
A15: Azerbaijan | B15: 20000 | C15: .. | D15: 760000 | E15: 593066000 | F15: 957756000 | H15: 825278000 | I15: 76987000 | J15: 172210000 | K15: 1875225000
A16: Bahamas, The | B16: 1000000 | C16: 200000 | D16: 140132000 | E16: 94373000 | F16: 39855000 | H16: 59835502 | I16: 84673303 | J16: 2.1448376e+08 | K16: 2.2535638e+08
A17: Bahrain | B17: 1.8082428e+08 | C17: 1.6335144e+08 | D17: 9552708.3 | E17: 2.1595565e+08 | F17: 1.9003018e+08 | H17: -2.0505319e+08 | I17: 64361702 | J17: 1.9478723e+09 | K17: 1.1130319e+09
A18: Bangladesh | B18: 3002160.5 | C18: 59960 | D18: 2000000 | E18: 20600000 | F18: 2642487 | H18: 4807601.9 | I18: 83184395 | J18: 31598138 | K18: -2062639.5
A19: Barbados | B19: 950000 | C19: 1300000 | D19: 22832500 | E19: 25582500 | F19: 24976500 | H19: 7500000 | I19: 17664400 | J19: 15000000 | K19: 8000000
A20: Belarus | B20: 2300000 | C20: 800000 | D20: 200000 | E20: 300000 | F20: -206200000 | H20: 82700000 | I20: -79184361 | J20: 1.8019887e+08 | K20: 64902700
A21: Belize | B21: 4500000 | C21: 5092500 | D21: 6223889.5 | E21: 11916 | F21: 74457.215 | H21: 4428191.8 | I21: 1537174.3 | J21: 1200408.8 | K21: 2255071.9
A22: Benin | B22: -21454296 | C22: -28519513 | D22: -69088213 | E22: -24849887 | F22: -31611045 | H22: 21526689 | I22: 42902137 | J22: 46569698 | K22: 48955920
A23: Bermuda | B23: 47400000 | C23: 28700000 | D23: 13900000 | E23: 22800000 | F23: 22400000 | H23: -11229974 | I23: -26781991 | J23: 20601100 | K23: 21480000
A24: Bhutan | B24: .. | C24: .. | D24: .. | E24: .. | F24: .. | H24: 0 | I24: 0 | J24: 0 | K24: 36486.875
A25: Bolivia | B25: 2800000 | C25: 2800000 | D25: 2800000 | E25: 2580000 | F25: 2600000 | H25: -1.1112885e+08 | I25: 91329730 | J25: -80794333 | K25: 2.5654425e+08
A26: Bosnia and Herzegovina | B26: .. | C26: .. | D26: .. | E26: .. | F26: .. | H26: 83179962 | I26: 91547140 | J26: 77887465 | K26: 1.0089647e+08
A27: Botswana | B27: 3497496.4 | C27: 1513711.4 | D27: 2252735.3 | E27: 3.7965123e+08 | F27: 42883207 | H27: -68225485 | I27: -32920136 | J27: 10118014 | K27: 9487705.1
A28: Brazil | B28: 2854013000 | C28: 1497658000 | D28: 2497066000 | E28: -1489093000 | F28: 2478504000 | H28: -3.4672535e+09 | I28: 1.623933e+10 | J28: 33354592259 | K28: 2.5148299e+10
A29: British Virgin Islands | B29: 2884158930 | C29: 10581983240 | D29: 36367397000 | E29: 30073089000 | F29: 14166008000 | H29: 42280161620 | I29: 43216848540 | J29: 42809379600 | K29: 44158493710
A30: Brunei Darussalam | B30: .. | C30: .. | D30: .. | E30: .. | F30: .. | H30: .. | I30: .. | J30: .. | K30: ..
A31: Burkina Faso | B31: 5264840 | C31: 193280 | D31: 167140 | E31: 597510 | F31: 1715950 | H31: -7138882.8 | I31: -43119301 | J31: 23529895 | K31: 5174270
A32: Burundi | B32: .. | C32: -238660.31 | D32: -11683241 | E32: -9152.7302 | F32: .. | H32: 1135501.8 | I32: 1134010.8 | J32: 1962917.4 | K32: 1170095.7
A33: Cabo Verde | B33: -2246070.9 | C33: 416170.82 | D33: 1396102.3 | E33: 420544.66 | F33: -29884.086 | H33: 3959881.9 | I33: -636675.91 | J33: 18590273 | K33: 7473216.6
A34: Cambodia | B34: -1.0715825e+08 | C34: -1.2092091e+08 | D34: -23601981 | E34: 4372518.1 | F34: -8124000 | H34: 1.2701289e+08 | I34: 92417625 | J34: 1.5048628e+08 | K34: 1.5141051e+08
A35: Cameroon | B35: -1.358589e+08 | C35: 38843274 | D35: 10210108 | E35: -49776918 | F35: -1.3261719e+08 | H35: 84415056 | I35: 54821661 | J35: 27346177 | K35: -109133290
A36: Cayman Islands | B36: 3241551670 | C36: 3854761830 | D36: 8504608000 | E36: 5983789000 | F36: -6024905000 | H36: -2.4084209e+09 | I36: -2.9162437e+09 | J36: -1.9981411e+09 | K36: 20421626280
A37: Central African Republic | B37: 301720 | C37: 6500 | D37: .. | E37: .. | F37: 1290 | H37: .. | I37: .. | J37: .. | K37: ..
A38: Chad | B38: -303410 | C38: -2147150 | D38: .. | E38: .. | F38: .. | H38: .. | I38: .. | J38: .. | K38: ..
A39: Chile | B39: 1.4834813e+09 | C39: 2.557924e+09 | D39: 3.9866451e+09 | E39: 1.609732e+09 | F39: 3.4315349e+08 | H39: 6.3982875e+09 | I39: 1.4573039e+10 | J39: 1.3206294e+10 | K39: 6.277992e+09
A40: China | B40: 4527000000 | C40: 4036000000 | D40: 4612000000 | E40: 9696000000 | F40: 6.2840497e+09 | H40: 1.5372081e+11 | I40: 1.7879774e+11 | J40: 2.1005016e+11 | K40: 1.8530145e+11
A41: Colombia | B41: 7.9599823e+08 | C41: 1.1553603e+08 | D41: 3.2534653e+08 | E41: 16119451 | F41: 8.5682574e+08 | H41: 1.7334486e+09 | I41: 3.1808138e+09 | J41: 3.3835049e+09 | K41: 1.1748141e+09
...

Sheet Scientific_Production
A1: Scientific and innovation rise of the Global South
A2: Source: SciVal
A3: SciVal provides data on the total volume of publications indexed in the Scopus database (2019-2023)
A4: Retrieved: May 2025
A6: SciVal
A7: Country/Territory | B7: Region | C7: Scholarly Output | D7: % of the regional total
A8: Egypt | B8: Africa | C8: 186858 | D8: =Table3[[#This Row],[Scholarly Output]]/$C$66 -> 0.2229998
A9: South Africa | B9: Africa | C9: 170246 | D9: =Table3[[#This Row],[Scholarly Output]]/$C$66 -> 0.20317473
A10: Nigeria | B10: Africa | C10: 85486 | D10: =Table3[[#This Row],[Scholarly Output]]/$C$66 -> 0.10202058
A11: Morocco | B11: Africa | C11: 58900 | D11: =Table3[[#This Row],[Scholarly Output]]/$C$66 -> 0.070292352
A12: Algeria | B12: Africa | C12: 49688 | D12: =Table3[[#This Row],[Scholarly Output]]/$C$66 -> 0.05929858
A13: Tunisia | B13: Africa | C13: 47566 | D13: =Table3[[#This Row],[Scholarly Output]]/$C$66 -> 0.056766146
A14: Ethiopia | B14: Africa | C14: 44364 | D14: =Table3[[#This Row],[Scholarly Output]]/$C$66 -> 0.05294482
A15: Ghana | B15: Africa | C15: 28020 | D15: =Table3[[#This Row],[Scholarly Output]]/$C$66 -> 0.033439587
A16: Kenya | B16: Africa | C16: 26255 | D16: =Table3[[#This Row],[Scholarly Output]]/$C$66 -> 0.031333204
A17: Uganda | B17: Africa | C17: 15014 | D17: =Table3[[#This Row],[Scholarly Output]]/$C$66 -> 0.017917986
A18: Tanzania | B18: Africa | C18: 13903 | D18: =Table3[[#This Row],[Scholarly Output]]/$C$66 -> 0.016592098
A19: Cameroon | B19: Africa | C19: 13116 | D19: =Table3[[#This Row],[Scholarly Output]]/$C$66 -> 0.015652878
... A65: Western Sahara | B65: Africa | C65: 2 | D65: =Table3[[#This Row],[Scholarly Output]]/$C$66 -> 2.3868371e-06
A66: AFRICA TOTAL | C66: =SUM(C8:C65) -> 837929 | D66: =SUM(D8:D65) -> 1
A67: China | B67: Asia Pacific | C67: 4603636 | D67: =Table3[[#This Row],[Scholarly Output]]/$C$126 -> 0.48507717
A68: India | B68: Asia Pacific | C68: 1290840 | D68: =Table3[[#This Row],[Scholarly Output]]/$C$126 -> 0.13601358
A69: Japan | B69: Asia Pacific | C69: 722171 | D69: =Table3[[#This Row],[Scholarly Output]]/$C$126 -> 0.07609391
A70: Australia | B70: Asia Pacific | C70: 617993 | D70: =Table3[[#This Row],[Scholarly Output]]/$C$126 -> 0.065116854
A71: South Korea | B71: Asia Pacific | C71: 504396 | D71: =Table3[[#This Row],[Scholarly Output]]/$C$126 -> 0.053147334
A72: Indonesia | B72: Asia Pacific | C72: 268249 | D72: =Table3[[#This Row],[Scholarly Output]]/$C$126 -> 0.028264933
A73: Taiwan | B73: Asia Pacific | C73: 220802 | D73: =Table3[[#This Row],[Scholarly Output]]/$C$126 -> 0.023265525
A74: Malaysia | B74: Asia Pacific | C74: 214887 | D74: =Table3[[#This Row],[Scholarly Output]]/$C$126 -> 0.022642272
A75: Pakistan | B75: Asia Pacific | C75: 177721 | D75: =Table3[[#This Row],[Scholarly Output]]/$C$126 -> 0.018726155
A76: Hong Kong | B76: Asia Pacific | C76: 152260 | D76: =Table3[[#This Row],[Scholarly Output]]/$C$126 -> 0.016043373
A77: Singapore | B77: Asia Pacific | C77: 136327 | D77: =Table3[[#This Row],[Scholarly Output]]/$C$126 -> 0.01436454
A78: Thailand | B78: Asia Pacific | C78: 125500 | D78: =Table3[[#This Row],[Scholarly Output]]/$C$126 -> 0.013223718
... A125: United States Minor Outlying Islands | B125: Asia Pacific | C125: 3 | D125: =Table3[[#This Row],[Scholarly Output]]/$C$126 -> 3.1610481e-07
A126: Asia-Pacific Total | C126: =SUM(C67:C125) -> 9490523 | D126: =Table3[[#This Row],[Scholarly Output]]/$C$126 -> 1
A127: Brazil | B127: Latin America | C127: 487332 | D127: =Table3[[#This Row],[Scholarly Output]]/$C$151 -> 0.45607576
A128: Mexico | B128: Latin America | C128: 164515 | D128: =Table3[[#This Row],[Scholarly Output]]/$C$151 -> 0.15396342
A129: Chile | B129: Latin America | C129: 97531 | D129: =Table3[[#This Row],[Scholarly Output]]/$C$151 -> 0.091275609
A130: Colombia | B130: Latin America | C130: 88181 | D130: =Table3[[#This Row],[Scholarly Output]]/$C$151 -> 0.082525294
A131: Argentina | B131: Latin America | C131: 87774 | D131: =Table3[[#This Row],[Scholarly Output]]/$C$151 -> 0.082144398
A132: Peru | B132: Latin America | C132: 41530 | D132: =Table3[[#This Row],[Scholarly Output]]/$C$151 -> 0.038866371
...

Sheet Democracy
A1: Freedom House Rating
A2: Excludes non-sovereign territories
A3: "F" Free; "PF" Partially Free "NF" Non Free
A4: Source: Freedom House (2024)
A7: Country / Territory | B7: Country group (North / South) | C7: Region | D7: Status
A8: Afghanistan | B8: Global South | C8: Asia | D8: NF
A9: Albania | B9: Global South | C9: Europe | D9: PF
A10: Algeria | B10: Global South | C10: Africa | D10: NF
A11: Andorra | B11: Global North | C11: Europe | D11: F
A12: Angola | B12: Global South | C12: Africa | D12: NF
A13: Antigua and Barbuda | B13: Global South | C13: Americas | D13: F
A14: Argentina | B14: Global South | C14: Americas | D14: F
A15: Armenia | B15: Global South | C15: Eurasia | D15: PF
A16: Australia | B16: Global North | C16: Asia | D16: F
A17: Austria | B17: Global North | C17: Europe | D17: F
A18: Azerbaijan | B18: Global South | C18: Eurasia | D18: NF
... A201: Zimbabwe | B201: Global South | C201: Africa | D201: NF

Sheet Global Presence
A1: Elcano Global Presence Index (index value)
A2: Source: Elcano Royal Institute
A3: Retrieved: March 2025
A5: Country / Territory | B5: 1990 | C5: 2023
A6: Afghanistan | B6: 0.71494645 | C6: 1.7863203
A7: Albania | B7: 0 | C7: 5.063952
A8: Algeria | B8: 20.008106 | C8: 43.658043
A9: Angola | B9: 10.826729 | C9: 17.472294
A10: Azerbaijan | B10: 0 | C10: 19.086252
A11: Argentina | B11: 80.476685 | C11: 51.664551
A12: Bahamas | B12: 1.6919158 | C12: 2.967356
A13: Bahrain | B13: 5.5318627 | C13: 15.316101
A14: Bangladesh | B14: 12.416228 | C14: 39.066841
A15: Armenia | B15: 0 | C15: 5.282979
A16: Bolivia | B16: 3.0307143 | C16: 5.7978868
A17: Bosnia and Herzegovina | B17: 0 | C17: 4.3299837
... A119: Zambia | B119: 2.9330022 | C119: 6.462101
A120: Global South (added index value) | B120: =SUM(B6:B119) -> 2851.7164 | C120: =SUM(C6:C119) -> 6846.5193
A121: Global South (% world total) | B121: =B120/B122*100 -> 28.395976 | C121: =C120/C122*100 -> 40.318029
A122: World (added index value) | B122: 10042.678 | C122: 16981.285

Sheet UN_Leadership
A1: Leadership of UN bodies
A2: Source: UN System Documentation.
A3: Retrieved: March 2025.
A5: Name | B5: Category | C5: Organization | D5: Position | E5: Country | F5: Country group (North/South) | G5: Time Period
A6: António Guterres | C6: SG UN | D6: Secretary-General of the United Nations UN | E6: Portugal | F6: Global North | G6: 2017-
A7: Ban Ki-moon | C7: SG UN | D7: Secretary-General of the United Nations UN | E7: Republic of Korea | F7: Global South | G7: 2007-2016
A8: Kofi Annan | C8: SG UN | D8: Secretary-General of the United Nations UN | E8: Ghana | F8: Global South | G8: 1997-2006
A9: Boutros Boutros-Ghali | C9: SG UN | D9: Secretary-General of the United Nations UN | E9: Egypt | F9: Global South | G9: 1992-1996
A10: Gilbert F. Houngbo | B10: Agency | C10: ILO | D10: Director-General ILO | E10: Togo | F10: Global South | G10: 2022-
A11: Guy Ryder | B11: Agency | C11: ILO | D11: Director-General ILO | E11: UK | F11: Global North | G11: 2013-2022
A12: Juan Somavia | B12: Agency | C12: ILO | D12: Director-General ILO | E12: Chile | F12: Global South | G12: 2000-2012
A13: Michel Hansenne, Belgium | B13: Agency | C13: ILO | D13: Director-General ILO | E13: Belgium | F13: Global North | G13: 1989-1999
A14: Qu Dongyu | B14: Agency | C14: FAO | D14: Director-General FAO | E14: China | F14: Global South | G14: 2019-
A15: José Graziano Da Silva | B15: Agency | C15: FAO | D15: Director-General FAO | E15: Brazil | F15: Global South | G15: 2012-2018
A16: Jacques Diouf | B16: Agency | C16: FAO | D16: Director-General FAO | E16: Senegal | F16: Global South | G16: 1994-2011
A17: Edouard Saouma | B17: Agency | C17: FAO | D17: Director-General FAO | E17: Lebanon | F17: Global South | G17: 1975-1993
A18: Audrey Azoulay | B18: Agency | C18: UNESCO | D18: Director-General UNESCO | E18: France | F18: Global North | G18: 2017-
A19: Irina Bokova | B19: Agency | C19: UNESCO | D19: Director-General UNESCO | E19: Bulgaria | F19: Global North | G19: 2009-2016
A20: Koïchiro Matsuura | B20: Agency | C20: UNESCO | D20: Director-General UNESCO | E20: Japan | F20: Global North | G20: 1999-2008
A21: Federico Mayor | B21: Agency | C21: UNESCO | D21: Director-General UNESCO | E21: Spain | F21: Global North | G21: 1987-1998
... A30: Margaret Chan | B30: Agency | C30: WHO | D30: Director-General WHO | E30: China | F30: Global South | G30: 2007-2016
A31: Anders Nordström | B31: Agency | C31: WHO | D31: Director-General WHO | E31: Sweden | F31: Global North | G31: 2006
A32: Jong Wook Lee | B32: Agency | C32: WHO | D32: Director-General WHO | E32: Republic of Korea | F32: Global South | G32: 2003-2005
A33: Gro Harlem Brundtland | B33: Agency | C33: WHO | D33: Director-General WHO | E33: Norway | F33: Global North | G33: 1998-2002
A34: Hiroshi Nakajima | B34: Agency | C34: WHO | D34: Director-General WHO | E34: Japan | F34: Global North | G34: 1988-1997
A35: Halfdan T. Mahler | B35: Agency | C35: WHO | D35: Director-General WHO | E35: Denmark | F35: Global North | G35: 1973-1987
A36: Ajay Banga, USA , | B36: Agency | C36: WB | D36: President World Bank Group | E36: USA | F36: Global North | G36: 2023-
A37: David R. Malpass, USA, 2019 - | B37: Agency | C37: WB | D37: President World Bank Group | E37: USA | F37: Global North | G37: 2019- 2022
A38: Jim Yong Kim, ROK, 2012 - | B38: Agency | C38: WB | D38: President World Bank Group | E38: USA | F38: Global North | G38: 2012- 2018
A39: Robert B. Zoellick, USA, 2007 - | B39: Agency | C39: WB | D39: President World Bank Group | E39: USA | F39: Global North | G39: 2007 - 2011
A40: Paul D. Wolfowitz, USA, 2005 - | B40: Agency | C40: WB | D40: President World Bank Group | E40: USA | F40: Global North | G40: 2005 - 2006
A41: Lewis T. Preston, USA, September 1, 1991 - May 4, | B41: Agency | C41: WB | D41: President World Bank Group | E41: USA | F41: Global North | G41: 1995 – 2004
A42: Barber Conable, USA, July 1, 1986 - August 31, | B42: Agency | C42: WB | D42: President World Bank Group | E42: USA | F42: Global North | G42: 1991- 1994
A43: Kristalina Georgieva, Bulgaria, | B43: Agency | C43: IMF | D43: Managing Director IMF | E43: Bulgaria | F43: Global North | G43: 2019-
... A132: USG Klaus Töpfer | B132: Fund & programme | C132: UN-Habitat | D132: Executive Director UN Habitat | E132: Germany | F132: Global North | G132: 1998-1999
A133: ASG Darshan Johal | B133: Fund & programme | C133: UN-Habitat | D133: Executive Director UN Habitat | E133: Canada | F133: Global North | G133: 1997
A134: ASG Wally N'Dow (Gambia | B134: Fund & programme | C134: UN-Habitat | D134: Executive Director UN Habitat | E134: Gambia | F134: Global South | G134: 1994-1996
A135: Elizabeth Dowdeswell | B135: Fund & programme | C135: UN-Habitat | D135: Executive Director UN Habitat | E135: Canada | F135: Global North | G135: 1993
A136: Arcot Ramachandran | B136: Fund & programme | C136: UN-Habitat | D136: Executive Director UN Habitat | E136: India | F136: Global South | G136: 1978-1992
A137: Sima Sami Bahous | B137: Fund & programme | C137: UN Women | D137: Executive Director UN Women | E137: Jordan | F137: Global South | G137: 2021-
...

Sheet UN_Peacekeeping
A1: Peacekeeping Operations Leadership
A2: Source: UN Department of Peace Operations
A3: Retrieved: March 2025.
A5: Operation | B5: Leader | C5: Position | D5: Country
A6: Abyei, UNISFA | B6: Maj. Gen. General Robert Yaw AFFRAM | C6: Acting Head of Mission and Force Commander | D6: Ghana
A7: Central African Republic, MINUSCA | B7: Valentine Rugwabiza | C7: Représentante spéciale du Secrétaire général et Cheffe de la Mission Secrétaire général adjointe | D7: Rwanda
A8: MONUSCO | B8: Bintou Keita (Guinée) | C8: Représentante spéciale du Secrétaire général | D8: Guinea
A9: Somalia, UNSOS (Led by the Department of Field Support) | B9: Ms. Aisa Kirabo Kacyira | C9: Assistant Secretary-General and Head of UNSOS | D9: Rwanda
A10: South Sudan, UNMISS | B10: Nicholas Haysom | C10: Special Representative of the Secretary-General (SRSG) and Head of UNMISS | D10: South africa
A11: Western Sahara, MINURSO | B11: Alexander Ivanko | C11: SRSG and Head of MINURSO | D11: Russia
A12: India and Pakistan, UNMOGIP | B12: Major General Ramón Guardado Sánchez | C12: Head of Mission / Chief Military Observer (HoM / CMO) | D12: Mexico
A13: Cyprus, UNFICYP | B13: Colin Stewart | C13: Special Representative of the Secretary-General (SRSG) in Cyprus and Head of UNFICYP | D13: Canada
A14: Kosovo, UNMIK | B14: Caroline Ziadeh | C14: Special Representative of the Secretary-General (SRSG) and Head of UNMIK | D14: Lebanon
A15: Golan, UNDOF | B15: Major General Anita Asmah | C15: Head of Mission and Force Commander | D15: Ghana
A16: Lebanon, UNIFIL | B16: Lieutenant General Aroldo Lázaro Sáenz, | C16: Head of Mission and Force Commander. | D16: Spain
A17: Middle East, UNTSO | B17: Major General Patrick Gauchat | C17: Head of Mission and Chief of Staff | D17: Switzerland

Sheet UN_Troops
A1: Uniformed Personnel Contributing Countries (by Ranking)
A2: Monthly data (December) 2001–2024
A3: Includes: mission experts, formed police units, individual officers, staff officers, and troops.
A4: Source: UN Peacekeeping
A5: Retrieved: March 2025.
A7: Rank | B7: Country | C7: Personnel | D7: Year
A8: 1 | B8: Bangladesh | C8: 6045 | D8: 2001
A9: 2 | B9: Pakistan | C9: 5558 | D9: 2001
A10: 3 | B10: Nigeria | C10: 3443 | D10: 2001
A11: 4 | B11: India | C11: 2853 | D11: 2001
A12: 5 | B12: Jordan | C12: 2740 | D12: 2001
A13: 6 | B13: Ghana | C13: 2295 | D13: 2001
A14: 7 | B14: Kenya | C14: 2070 | D14: 2001
A15: 8 | B15: Ukraine | C15: 1524 | D15: 2001
A16: 9 | B16: Australia | C16: 1358 | D16: 2001
A17: 10 | B17: Portugal | C17: 1154 | D17: 2001
A18: 11 | B18: Poland | C18: 1026 | D18: 2001
A19: 12 | B19: Zambia | C19: 910 | D19: 2001
... A2650: 120 | B2650: Ukraine | C2650: 0 | D2650: 2024

Sheet Denomination
A1: Nr. of documents containing the term in the topic of the article
A2: Source: Google and Clarivate
A3: Retrieved: March 2025
A5: Google Scholar
A6: Denomination | B6: 1950-1990 | C6: 1990-2000 | D6: 2000-2010 | E6: 2010-2020 | F6: 2020-2025 | G6: Sin periodo definido
A7: Third World | B7: 251000 | C7: 549000 | D7: 722000 | E7: 607000 | F7: 63700 | G7: 3040000
A8: Developing countries | B8: 382000 | C8: 1220000 | D8: 2020000 | E8: 2160000 | F8: 942000 | G8: 4590000
A9: Emerging countries | B9: 3200 | C9: 3900 | D9: 16500 | E9: 127000 | F9: 54600 | G9: 407000
A10: Global South | B10: 956 | C10: 1900 | D10: 25500 | E10: 422000 | F10: 194000 | G10: 912000
A11: Plural South | B11: 15 | C11: 14 | D11: 41 | E11: 70 | F11: 44 | G11: 173
A14: Web of Science
A15: Denomination | B15: 1950-1990 | C15: 1990-2000 | D15: 2000-2010 | E15: 2010-2020 | F15: 2020-2025 | G15: Sin periodo definido
A16: Third World | B16: 3861 | C16: 3521 | D16: 2140 | E16: 2521 | F16: 1250 | G16: 13079
A17: Developing countries | B17: 7993 | C17: 12769 | D17: 30187 | E17: 72494 | F17: 52485 | G17: 174537
A18: Emerging countries | B18: 36 | C18: 38 | D18: 437 | E18: 2434 | F18: 2323 | G18: 5273
A19: Global South | B19: 0 | C19: 6 | D19: 426 | E19: 4705 | F19: 9945 | G19: 15465

Sheet Export_Goods_EU
A1: Share of total extra-EU exports of goods of the EU (in million euros and %)
A2: Source: European Commission
A3: Retrieved: March 2025
A5: Region / Country | B5: 2023 | C5: 2022 | D5: 2021 | E5: 2020 | F5: 2019 | G5: Average | J5: Global South
J6: China except Hong Kong | K6: =9.54+1.12 -> 10.66
A7: North | J7: Türkiye | K7: 3.74
A8: Iceland | B8: 0.2 | C8: 0.2 | D8: 0.2 | E8: 0.1 | F8: 0.1 | G8: =AVERAGE(B8:F8) -> 0.16 | J8: Russia | K8: 3.18
A9: Liechtenstein | B9: 0.1 | C9: 0.1 | D9: 0.1 | E9: 0.1 | F9: 0.1 | G9: =AVERAGE(B9:F9) -> 0.1 | J9: South Korea | K9: 2.24
A10: Norway | B10: 2.4 | C10: 2.6 | D10: 2.6 | E10: 2.5 | F10: 2.4 | G10: =AVERAGE(B10:F10) -> 2.5 | J10: Mexico | K10: 1.82
A11: Switzerland | B11: 7.4 | C11: 7.3 | D11: 7.2 | E11: 7.4 | F11: 6.9 | G11: =AVERAGE(B11:F11) -> 7.24 | J11: India | K11: 1.82
A12: United Kingdom | B12: 13.1 | C12: 12.8 | D12: 13 | E12: 14.4 | F12: 15 | G12: =AVERAGE(B12:F12) -> 13.66 | J12: Brazil | K12: 1.56
A13: Andorra | B13: 0.1 | C13: 0.1 | D13: 0.1 | E13: 0.1 | F13: 0.1 | G13: =AVERAGE(B13:F13) -> 0.1 | J13: United Arab Emirates | K13: 1.4
A14: Canada | B14: 1.9 | C14: 1.8 | D14: 1.7 | E14: 1.7 | F14: 1.8 | G14: =AVERAGE(B14:F14) -> 1.78 | J14: Singapore | K14: 1.28
A15: United States | B15: 19.7 | C15: 19.8 | D15: 18.3 | E15: 18.3 | F15: 18 | G15: =AVERAGE(B15:F15) -> 18.82 | J15: Ukraine | K15: 1.26
A16: Australia | B16: 1.5 | C16: 1.5 | D16: 1.5 | E16: 1.5 | F16: 1.4 | G16: =AVERAGE(B16:F16) -> 1.48 | J16: Taiwan | K16: 1.24
A17: New Zealand | B17: 0.2 | C17: 0.2 | D17: 0.3 | E17: 0.2 | F17: 0.2 | G17: =AVERAGE(B17:F17) -> 0.22 | J17: Saudi Arabia | K17: 1.22
A18: Marshall Islands | B18: 0.1 | C18: 0.1 | D18: 0.1 | E18: 0.1 | F18: 0 | G18: =AVERAGE(B18:F18) -> 0.08 | J18: Morocco | K18: 1.16
A19: Japan | B19: 2.5 | C19: 2.8 | D19: 2.9 | E19: 2.9 | F19: 2.9 | G19: =AVERAGE(B19:F19) -> 2.8 | J19: Israel | K19: 1.02
A20: Total North | B20: =SUM(B8:B19) -> 49.2 | C20: =SUM(C8:C19) -> 49.3 | D20: =SUM(D8:D19) -> 48 | E20: =SUM(E8:E19) -> 49.3 | F20: =SUM(F8:F19) -> 48.9 | G20: =AVERAGE(B20:F20) -> 48.94 | J20: South Africa | K20: 1
A21: Global South | J21: Egypt | K21: 0.88
A22: Bosnia and Herzegovina | B22: 0.3 | C22: 0.3 | D22: 0.3 | E22: 0.3 | F22: 0.3 | G22: =AVERAGE(B22:F22) -> 0.3 | J22: Serbia | K22: 0.82
A23: Montenegro | B23: 0.1 | C23: 0.1 | D23: 0.1 | E23: 0 | F23: 0.1 | G23: =AVERAGE(B23:F23) -> 0.08 | J23: Algeria | K23: 0.64
A24: Moldova | B24: 0.2 | C24: 0.2 | D24: 0.1 | E24: 0.1 | F24: 0.1 | G24: =AVERAGE(B24:F24) -> 0.14 | J24: Thailand | K24: 0.6
A25: North Macedonia | B25: 0.3 | C25: 0.3 | D25: 0.2 | E25: 0.2 | F25: 0.2 | G25: =AVERAGE(B25:F25) -> 0.24 | J25: Malaysia | K25: 0.56
A26: Georgia | B26: 0.1 | C26: 0.1 | D26: 0.1 | E26: 0.1 | F26: 0.1 | G26: =AVERAGE(B26:F26) -> 0.1 | J26: Nigeria | K26: 0.54
A27: Albania | B27: 0.2 | C27: 0.2 | D27: 0.2 | E27: 0.2 | F27: 0.1 | G27: =AVERAGE(B27:F27) -> 0.18 | J27: Tunisia | K27: 0.5
A28: Serbia | B28: 0.9 | C28: 0.9 | D28: 0.8 | E28: 0.8 | F28: 0.7 | G28: =AVERAGE(B28:F28) -> 0.82 | J28: Viet Nam | K28: 0.48
A29: Türkiye | B29: 4.4 | C29: 3.9 | D29: 3.6 | E29: 3.6 | F29: 3.2 | G29: =AVERAGE(B29:F29) -> 3.74 | J29: Chile | K29: 0.44
A30: Ukraine | B30: 1.5 | C30: 1.2 | D30: 1.3 | E30: 1.2 | F30: 1.1 | G30: =AVERAGE(B30:F30) -> 1.26 | J30: Indonesia | K30: 0.4
A31: Kosovo* | B31: 0.1 | C31: 0.1 | D31: 0.1 | E31: 0.1 | F31: 0.1 | G31: =AVERAGE(B31:F31) -> 0.1 | J31: Qatar | K31: 0.4
A32: Belarus | B32: 0.3 | C32: 0.3 | D32: 0.3 | E32: 0.3 | F32: 0.3 | G32: =AVERAGE(B32:F32) -> 0.3 | J32: Argentina | K32: 0.36
A33: Russia | B33: 1.5 | C33: 2.1 | D33: 4.1 | E33: 4.1 | F33: 4.1 | G33: =AVERAGE(B33:F33) -> 3.18 | J33: Kazakhstan | K33: 0.36
... A83: Malaysia | B83: 0.6 | C83: 0.6 | D83: 0.5 | E83: 0.5 | F83: 0.6 | G83: =AVERAGE(B83:F83) -> 0.56 | J83: Syria | K83: 0
A84: Philippines | B84: 0.3 | C84: 0.3 | D84: 0.3 | E84: 0.3 | F84: 0.3 | G84: =AVERAGE(B84:F84) -> 0.3
A85: Singapore | B85: 1.3 | C85: 1.2 | D85: 1.3 | E85: 1.2 | F85: 1.4 | G85: =AVERAGE(B85:F85) -> 1.28
A86: Thailand | B86: 0.6 | C86: 0.6 | D86: 0.6 | E86: 0.6 | F86: 0.6 | G86: =AVERAGE(B86:F86) -> 0.6
A87: Viet Nam | B87: 0.4 | C87: 0.5 | D87: 0.5 | E87: 0.5 | F87: 0.5 | G87: =AVERAGE(B87:F87) -> 0.48
A88: Armenia | B88: 0.1 | C88: 0.1 | D88: 0 | E88: 0 | F88: 0 | G88: =AVERAGE(B88:F88) -> 0.04
A89: Azerbaijan | B89: 0.1 | C89: 0.1 | D89: 0.1 | E89: 0.1 | F89: 0.1 | G89: =AVERAGE(B89:F89) -> 0.1
A90: Bahrain | B90: 0.1 | C90: 0.1 | D90: 0.1 | E90: 0.1 | F90: 0.1 | G90: =AVERAGE(B90:F90) -> 0.1
...

Sheet Import_Goods_EU
A1: Share of total extra-EU imports of goods from the EU (in million euros and %)
A2: Source: European Commission
A3: Retrieved: March 2025
A5: Region / Country | B5: 2023 | C5: 2022 | D5: 2021 | E5: 2020 | F5: 2019 | G5: Columna1 | H5: Average
A6: North
A7: Iceland | B7: 0.2 | C7: 0.2 | D7: 0.2 | E7: 0.2 | F7: 0.1 | H7: =AVERAGE(B7:G7) -> 0.18
A8: Liechtenstein | B8: 0.1 | C8: 0 | D8: 0.1 | E8: 0.1 | F8: 0.1 | H8: =AVERAGE(B8:G8) -> 0.08
A9: Norway | B9: 4.5 | C9: 5.4 | D9: 3.5 | E9: 2.5 | F9: 2.8 | H9: =AVERAGE(B9:G9) -> 3.74
